BEGIN:VCALENDAR
VERSION:2.0
PRODID:-//wp-events-plugin.com//6.5.2//EN
BEGIN:VEVENT
UID:154@judoclubsaintdenis.be
DTSTART:20251205T180000Z
DTEND:20251205T220000Z
DTSTAMP:20251021T013053Z
URL:http://www.judoclubsaintdenis.be/events/souper-de-saint-nicolas-2025/
SUMMARY:Souper de Saint Nicolas 2025
DESCRIPTION:Vendredi 05 décembre 2025 - Salle La Ruche - 19hr00\n\nProgram
 me et inscription : Ult
CATEGORIES:Festivités
LOCATION:Saint-Denis - Salle La Ruche\, 1\, Place Albert 1er\, Saint-Denis\
 , 5081\, Belgique
GEO:50.535278;4.7849109
X-APPLE-STRUCTURED-LOCATION;VALUE=URI;X-ADDRESS=1\, Place Albert 1er\, Sain
 t-Denis\, 5081\, Belgique;X-APPLE-RADIUS=100;X-TITLE=Saint-Denis - Salle L
 a Ruche:geo:50.535278,4.7849109
END:VEVENT
END:VCALENDAR