BEGIN:VCALENDAR
VERSION:2.0
PRODID:-//wp-events-plugin.com//6.5.2//EN
BEGIN:VEVENT
UID:76@judoclubsaintdenis.be
DTSTART:20210215T080000Z
DTEND:20210219T150000Z
DTSTAMP:20210103T140826Z
URL:http://www.judoclubsaintdenis.be/events/stage-judo-6-a-12-ans-carnaval
 -2021-judo-club-saint-denis/
SUMMARY:Stage JUDO - 6 à 12/13 ans - Carnaval 2021 - Judo Club Saint-Denis
DESCRIPTION:Nous inversons cette année nos traditionnels stages judo de Ca
 rnaval et Pâques.\n\nCe stage de Carnaval 2021 est donc celui destiné au
 x petits judokas de 6 à 12/13 ans (né en 2008 et après).\n\nIl s'adress
 e aussi aux enfants de la même tranche d'âge mais n'ayant pas encore fai
 t de judo (initiation Judo).\n\nIl se déroulera du lundi 15 au vendredi 1
 9 février 2021 de 09hr à 16hr (garderie de 08hr à 17hr)\n\nIl sera diri
 gé par Véronique REULMONDE et Jean-Marie DEVOS\, moniteurs du Judo Club 
 St-Denis. Les participants pratiqueront bien entendu du Judo\, mais égale
 ment d'autres activités sportives comme le jogging\, etc ...\n\nProtocole
  COVID spécifique stage sera transmis en temps utiles.\n\nRenseignements 
 et document d'inscription\n\n&nbsp\;
CATEGORIES:Stages
LOCATION:Judo Club Saint-Denis\, Rue de Beauffaux 2A\, Saint-Denis\, 5081\,
  Belgique
GEO:50.5358228;4.781192400000009
X-APPLE-STRUCTURED-LOCATION;VALUE=URI;X-ADDRESS=Rue de Beauffaux 2A\, Saint
 -Denis\, 5081\, Belgique;X-APPLE-RADIUS=100;X-TITLE=Judo Club Saint-Denis:
 geo:50.5358228,4.781192400000009
END:VEVENT
END:VCALENDAR