BEGIN:VCALENDAR
VERSION:2.0
PRODID:-//wp-events-plugin.com//6.5.2//EN
BEGIN:VEVENT
UID:100@judoclubsaintdenis.be
DTSTART:20220711T080000Z
DTEND:20220715T150000Z
DTSTAMP:20220610T135210Z
URL:http://www.judoclubsaintdenis.be/events/stage-judo-6-a-12-ans-juillet-
 2022-judo-club-saint-denis/
SUMMARY:Stage JUDO - 6 à 12 ans - Juillet 2022 - Judo Club Saint-Denis
DESCRIPTION:Spécifiquement pour les petits judokas\, le comité de l'ASBL 
 Judo Club St-Denis a décidé d'organiser ce stage au mois de juillet.\nCe
 lui-ci se déroulera du lundi 11 au vendredi 15 juillet 2022 de 09hr à 16
 hr (garderie de 08hr à 17hr). Ce stage s'adresse aux enfants de 6 à 12 a
 ns (judokas ou non - initiation judo).\n\nCe stage sera dirigé par Véron
 ique REULMONDE et Jean-Marie DEVOS\, moniteurs du Judo Club St-Denis. Les 
 participants pratiqueront bien entendu du Judo\, mais également d'autres 
 activités sportives comme le jogging\, etc ...\n\nRenseignements et docum
 ent d'inscription\n\nSTAGE COMPLET maintenant (sauf si désistement)
CATEGORIES:Stages
LOCATION:Judo Club Saint-Denis\, Rue de Beauffaux 2A\, Saint-Denis\, 5081\,
  Belgique
GEO:50.5358228;4.781192400000009
X-APPLE-STRUCTURED-LOCATION;VALUE=URI;X-ADDRESS=Rue de Beauffaux 2A\, Saint
 -Denis\, 5081\, Belgique;X-APPLE-RADIUS=100;X-TITLE=Judo Club Saint-Denis:
 geo:50.5358228,4.781192400000009
END:VEVENT
END:VCALENDAR