BEGIN:VCALENDAR
VERSION:2.0
PRODID:-//wp-events-plugin.com//6.5.2//EN
BEGIN:VEVENT
UID:149@judoclubsaintdenis.be
DTSTART:20251027T080000Z
DTEND:20251031T150000Z
DTSTAMP:20250528T125138Z
URL:http://www.judoclubsaintdenis.be/events/stage-judo-6-ans-et-plus-touss
 aint-2025-judo-club-saint-denis/
SUMMARY:Stage JUDO - 6 ans et plus - Toussaint 2025 - Judo Club Saint-Denis
DESCRIPTION:Comme l'année passée\, le club organise un stage judo la seco
 nde semaine du congé de Toussaint destiné aux judokas de 6 ans et plus.\
 n\nIl s'adresse aussi aux enfants de la même tranche d'âge mais n'ayant 
 pas encore fait de judo (initiation Judo).\n\nIl se déroulera du lundi 27
  octobre au vendredi 31 octobre 2025 de 09hr à 16hr (garderie de 08hr à
  17hr)\n\nIl sera dirigé par Véronique REULMONDE - 3 DAN et Sabrina MASS
 ON - 1 Dan\, monitrices du Judo Club St-Denis. Les participants pratiquero
 nt bien entendu du Judo\, mais également d'autres activités sportives co
 mme le jogging\, etc ...\n\nRenseignements et document d'inscription : Ult
 \n\n&nbsp\;
CATEGORIES:Stages
LOCATION:Judo Club Saint-Denis\, Rue de Beauffaux 2A\, Saint-Denis\, 5081\,
  Belgique
GEO:50.5358228;4.781192400000009
X-APPLE-STRUCTURED-LOCATION;VALUE=URI;X-ADDRESS=Rue de Beauffaux 2A\, Saint
 -Denis\, 5081\, Belgique;X-APPLE-RADIUS=100;X-TITLE=Judo Club Saint-Denis:
 geo:50.5358228,4.781192400000009
END:VEVENT
END:VCALENDAR