BEGIN:VCALENDAR
VERSION:2.0
PRODID:-//wp-events-plugin.com//6.5.2//EN
BEGIN:VEVENT
UID:148@judoclubsaintdenis.be
DTSTART:20250714T090000Z
DTEND:20250718T160000Z
DTSTAMP:20250528T124257Z
URL:http://www.judoclubsaintdenis.be/events/stage-psychomotricite-judo-jui
 llet-2025-judo-club-saint-denis/
SUMMARY:Stage PSYCHOMOTRICITE-JUDO - Juillet 2025 - Judo Club Saint-Denis
DESCRIPTION:Après le succès de ses premiers stages de psychomotricité-ju
 do lors des cinq saisons précédentes\, le comité de l'ASBL Judo Club St
 -Denis à décidé d'en organiser à nouveau cette saison pendant les vaca
 nces de Printemps et les grandes vacances.\n\nCe stage d'été se déroule
 ra du lundi 14 au vendredi 18 juillet 2025 de 9h à 16h (garderie de 8h à
  17h). Il s'agit d'un stage en externat\, pour enfants de 4 à 6 ans (ayan
 t terminé leur 1ère\,  2eme ou 3eme maternelle).\n\nCe stage sera dirig
 é par Céline Ceressiaux\, monitrice du Judo Club St-Denis. Les activité
 s se composeront de psychomotricité mais également d’ateliers culinair
 es et d’art créatif.\n\nRenseignements et document d'inscription
CATEGORIES:Stages
LOCATION:Judo Club Saint-Denis\, Rue de Beauffaux 2A\, Saint-Denis\, 5081\,
  Belgique
GEO:50.5358228;4.781192400000009
X-APPLE-STRUCTURED-LOCATION;VALUE=URI;X-ADDRESS=Rue de Beauffaux 2A\, Saint
 -Denis\, 5081\, Belgique;X-APPLE-RADIUS=100;X-TITLE=Judo Club Saint-Denis:
 geo:50.5358228,4.781192400000009
END:VEVENT
END:VCALENDAR